BEGIN:VCALENDAR
VERSION:2.0
PRODID:-//Foyer Rural de Peynier - ECPv6.2.9//NONSGML v1.0//EN
CALSCALE:GREGORIAN
METHOD:PUBLISH
X-WR-CALNAME:Foyer Rural de Peynier
X-ORIGINAL-URL:https://foyerrural-peynier.fr
X-WR-CALDESC:évènements pour Foyer Rural de Peynier
REFRESH-INTERVAL;VALUE=DURATION:PT1H
X-Robots-Tag:noindex
X-PUBLISHED-TTL:PT1H
BEGIN:VTIMEZONE
TZID:Europe/Paris
BEGIN:DAYLIGHT
TZOFFSETFROM:+0100
TZOFFSETTO:+0200
TZNAME:CEST
DTSTART:20240331T010000
END:DAYLIGHT
BEGIN:STANDARD
TZOFFSETFROM:+0200
TZOFFSETTO:+0100
TZNAME:CET
DTSTART:20241027T010000
END:STANDARD
END:VTIMEZONE
BEGIN:VEVENT
DTSTART;TZID=Europe/Paris:20240907T090000
DTEND;TZID=Europe/Paris:20240907T170000
DTSTAMP:20260419T200740
CREATED:20240905T111738Z
LAST-MODIFIED:20240905T111739Z
UID:10000003-1725699600-1725728400@foyerrural-peynier.fr
SUMMARY:Journée des Associations
DESCRIPTION:Chaque année\, la journée des associations de Peynier est un moment fort de la rentrée. C’est le rendez-vous à ne pas manquer ! \nCette grande manifestation est l’occasion de découvrir la richesse du tissu associatif de la commune. Toute la journée\, en plus de la visite des stands\, le public pourra assister à des démonstrations ou s’initier à des activités culturelles et sportives. \nComme l’année dernière\, la formule sera élargie à l’ensemble de la journée et se déroulera sur la Base de Loisirs de la Garenne. Une buvette et de la petite restauration (gérée par l’association FADA dans la cuisine de la salle de la Garenne) seront proposés tout au long de la journée. La journée des associations 2024-2025 aura lieu le samedi 7 septembre 2024 de 10h à 17h. \nPlus de 25 associations participeront dont bien évidemment le Foyer Rural que vous pouvez retrouver à l’entrée avec sa belle tente blanche.
URL:https://foyerrural-peynier.fr/evenement/journee-des-associations/
LOCATION:Base de loisirs de la Garenne\, Peynier\, France
END:VEVENT
END:VCALENDAR