BEGIN:VCALENDAR
VERSION:2.0
PRODID:-//Foyer Rural de Peynier - ECPv6.2.9//NONSGML v1.0//EN
CALSCALE:GREGORIAN
METHOD:PUBLISH
X-WR-CALNAME:Foyer Rural de Peynier
X-ORIGINAL-URL:https://foyerrural-peynier.fr
X-WR-CALDESC:évènements pour Foyer Rural de Peynier
REFRESH-INTERVAL;VALUE=DURATION:PT1H
X-Robots-Tag:noindex
X-PUBLISHED-TTL:PT1H
BEGIN:VTIMEZONE
TZID:Europe/Paris
BEGIN:DAYLIGHT
TZOFFSETFROM:+0100
TZOFFSETTO:+0200
TZNAME:CEST
DTSTART:20240331T010000
END:DAYLIGHT
BEGIN:STANDARD
TZOFFSETFROM:+0200
TZOFFSETTO:+0100
TZNAME:CET
DTSTART:20241027T010000
END:STANDARD
END:VTIMEZONE
BEGIN:VEVENT
DTSTART;TZID=Europe/Paris:20240622T180000
DTEND;TZID=Europe/Paris:20240629T180000
DTSTAMP:20260419T163212
CREATED:20240617T132921Z
LAST-MODIFIED:20240617T133144Z
UID:10000002-1719079200-1719684000@foyerrural-peynier.fr
SUMMARY:Exposition Atelier d'Art au château de Peynier
DESCRIPTION: Du samedi 22 au samedi 29 juin\, le Foyer Rural de Peynier organise son exposition annuelle “Atelier d’Art”Pour la première fois\, celle-ci se déroulera dans la nouvelle galerie Vincent ROUX du château.\n\nVous allez pouvoir y découvrir une sélection de travaux réalisés au cours de l’année écoulée\, au sein des ateliers Dessin – Peinture et Sculpture de Peynier.\nDifférentes techniques vous seront présentées : crayon\, aquarelle\, pastel\, huile\, modelage et sculpture. Ces ateliers sont encadrés par André Dadoun\, professeur diplômé.\n\nHoraires : Tous les jours de 10h à 12h et de 16h à 18hVernissage samedi 22 juin à partir de 18h.
URL:https://foyerrural-peynier.fr/evenement/exposition-atelier-dart-au-chateau-de-peynier/
LOCATION:Galerie Vincent Roux – Chateau de Peynier\, 2 avenue Mireille\, Peynier\, 13790\, France
END:VEVENT
END:VCALENDAR